BEGIN:VCALENDAR
VERSION:2.0
PRODID:-//mrlib.org//NONSGML kigkonsult.se iCalcreator 2.30.10//
CALSCALE:GREGORIAN
METHOD:PUBLISH
UID:c29625fa-aa89-4e69-8490-ccfa2c521151
X-WR-CALDESC:Dogs are wonderful listeners and love to hear stories! Dogs 2 
 Read 2 is a great chance for kids in grades K-5 to practice their reading 
 skills with some wonderful and well-behaved pups. \n\n*All Dogs 2 Read 2 p
 ups are trained and certified through the Alliance of Therapy Dogs*
X-WR-RELCALID:c771286ead09f047708cccec6e0a4999
X-WR-TIMEZONE:America/New_York
BEGIN:VTIMEZONE
TZID:America/New_York
BEGIN:STANDARD
TZNAME:EST
DTSTART:20251102T020000
TZOFFSETFROM:-0400
TZOFFSETTO:-0500
RDATE:20261101T020000
END:STANDARD
BEGIN:DAYLIGHT
TZNAME:EDT
DTSTART:20250309T020000
TZOFFSETFROM:-0500
TZOFFSETTO:-0400
RDATE:20260308T020000
RDATE:20270314T020000
END:DAYLIGHT
END:VTIMEZONE
BEGIN:VEVENT
UID:24b33888-e9b7-4f40-b14c-047806cb508c
DTSTAMP:20260419T160753Z
DESCRIPTION:Dogs are wonderful listeners and love to hear stories! Dogs 2 R
 ead 2 is a great chance for kids in grades K-5 to practice their reading s
 kills with some wonderful and well-behaved pups. \n\n*All Dogs 2 Read 2 pu
 ps are trained and certified through the Alliance of Therapy Dogs*
DTSTART;TZID=America/New_York:20251218T163000
DTEND;TZID=America/New_York:20251218T173000
LOCATION:Central Library\, 174 S. Main Street\, Harrisonburg\, VA 22801 US
SUMMARY:Dogs 2 Read 2 @Central Library
END:VEVENT
END:VCALENDAR
