BEGIN:VCALENDAR
VERSION:2.0
PRODID:-//mrlib.org//NONSGML kigkonsult.se iCalcreator 2.30.10//
CALSCALE:GREGORIAN
METHOD:PUBLISH
UID:42cf4e09-aa77-44f6-81b8-0ee999445904
X-WR-CALDESC:Celebrate the holidays with Mrs. Claus! She'll be joining us f
 or festive stories and delicious cookies freshly baked by our wonderful Ha
 rrisonburg neighbor\, Heritage Bakery & Café.
X-WR-RELCALID:c1a8a0bb737499d05b96e595b72c7d69
X-WR-TIMEZONE:America/New_York
BEGIN:VTIMEZONE
TZID:America/New_York
BEGIN:STANDARD
TZNAME:EST
DTSTART:20251102T020000
TZOFFSETFROM:-0400
TZOFFSETTO:-0500
RDATE:20261101T020000
END:STANDARD
BEGIN:DAYLIGHT
TZNAME:EDT
DTSTART:20250309T020000
TZOFFSETFROM:-0500
TZOFFSETTO:-0400
RDATE:20260308T020000
RDATE:20270314T020000
END:DAYLIGHT
END:VTIMEZONE
BEGIN:VEVENT
UID:33f6ab4b-02e7-44df-8346-26497018686f
DTSTAMP:20260419T160629Z
DESCRIPTION:Celebrate the holidays with Mrs. Claus! She'll be joining us fo
 r festive stories and delicious cookies freshly baked by our wonderful Har
 risonburg neighbor\, Heritage Bakery & Café.
DTSTART;TZID=America/New_York:20251220T130000
DTEND;TZID=America/New_York:20251220T140000
LOCATION:Central Library\, 174 S. Main Street\, Harrisonburg\, VA 22801 US
SUMMARY:Stories and Cookies with Mrs. Claus @Central Library
END:VEVENT
END:VCALENDAR
