BEGIN:VCALENDAR
VERSION:2.0
PRODID:-//mrlib.org//NONSGML kigkonsult.se iCalcreator 2.30.10//
CALSCALE:GREGORIAN
METHOD:PUBLISH
UID:9825782d-9160-43b1-83c8-9e31bd35e500
X-WR-CALDESC:All MRL locations are on a Story Time planning break. We'll se
 e you the week of January 5th!
X-WR-RELCALID:3abcffa00337f3dbce32ee468b1b81f7
X-WR-TIMEZONE:America/New_York
BEGIN:VTIMEZONE
TZID:America/New_York
BEGIN:STANDARD
TZNAME:EST
DTSTART:20251102T020000
TZOFFSETFROM:-0400
TZOFFSETTO:-0500
RDATE:20261101T020000
END:STANDARD
BEGIN:DAYLIGHT
TZNAME:EDT
DTSTART:20250309T020000
TZOFFSETFROM:-0500
TZOFFSETTO:-0400
RDATE:20260308T020000
RDATE:20270314T020000
END:DAYLIGHT
END:VTIMEZONE
BEGIN:VEVENT
UID:1b61e084-81b7-45b3-9c4a-be36902a6e84
DTSTAMP:20260419T141323Z
DESCRIPTION:All MRL locations are on a Story Time planning break. We'll see
  you the week of January 5th!
DTSTART;TZID=America/New_York:20251222T060000
DTEND;TZID=America/New_York:20260104T060001
LOCATION:
SUMMARY:STORY TIME BREAK
END:VEVENT
END:VCALENDAR
