BEGIN:VCALENDAR
VERSION:2.0
PRODID:-//mrlib.org//NONSGML kigkonsult.se iCalcreator 2.30.10//
CALSCALE:GREGORIAN
METHOD:PUBLISH
UID:9aa2c508-45d0-4ce9-a362-f77d515f1860
X-WR-CALDESC:All MRL branches close at 5 PM today in observance of the Chri
 stmas holiday.
X-WR-RELCALID:6fd55b681a59b8d440cdbb7a18ca5340
X-WR-TIMEZONE:America/New_York
BEGIN:VTIMEZONE
TZID:America/New_York
BEGIN:STANDARD
TZNAME:EST
DTSTART:20251102T020000
TZOFFSETFROM:-0400
TZOFFSETTO:-0500
RDATE:20261101T020000
END:STANDARD
BEGIN:DAYLIGHT
TZNAME:EDT
DTSTART:20250309T020000
TZOFFSETFROM:-0500
TZOFFSETTO:-0400
RDATE:20260308T020000
RDATE:20270314T020000
END:DAYLIGHT
END:VTIMEZONE
BEGIN:VEVENT
UID:c486af1d-a5bd-43d1-afcc-74cbde33bc36
DTSTAMP:20260419T154302Z
DESCRIPTION:All MRL branches close at 5 PM today in observance of the Chris
 tmas holiday.
DTSTART;TZID=America/New_York:20251223T060000
DTEND;TZID=America/New_York:20251223T060001
LOCATION:
SUMMARY:ALL MRL BRANCHES CLOSING AT 5 PM
END:VEVENT
END:VCALENDAR
