BEGIN:VCALENDAR
VERSION:2.0
PRODID:-//mrlib.org//NONSGML kigkonsult.se iCalcreator 2.30.10//
CALSCALE:GREGORIAN
METHOD:PUBLISH
UID:1260711d-e053-4424-ad57-2c9c7c52e12c
X-WR-CALDESC:Shake out your sillies at this story time for ages 0-2 years. 
 Come explore new books and learn simple songs and nursey rhymes to enhance
  early literacy development.
X-WR-RELCALID:34af25e3342703a53cc3ab3e6e60ab13
X-WR-TIMEZONE:America/New_York
BEGIN:VTIMEZONE
TZID:America/New_York
BEGIN:STANDARD
TZNAME:EST
DTSTART:20251102T020000
TZOFFSETFROM:-0400
TZOFFSETTO:-0500
RDATE:20261101T020000
END:STANDARD
BEGIN:DAYLIGHT
TZNAME:EDT
DTSTART:20250309T020000
TZOFFSETFROM:-0500
TZOFFSETTO:-0400
RDATE:20260308T020000
RDATE:20270314T020000
END:DAYLIGHT
END:VTIMEZONE
BEGIN:VEVENT
UID:24679f5c-846b-48fa-8eb9-c820ea5fcc84
DTSTAMP:20260419T142007Z
DESCRIPTION:Shake out your sillies at this story time for ages 0-2 years. C
 ome explore new books and learn simple songs and nursey rhymes to enhance 
 early literacy development.
DTSTART;TZID=America/New_York:20260106T100000
DTEND;TZID=America/New_York:20260106T103000
LOCATION:Central Library\, 174 S. Main St.\, Harrisonburg\, VA 22801 US
SUMMARY:Babies\, Books\, and Movement @ Central Library
END:VEVENT
END:VCALENDAR
