BEGIN:VCALENDAR
VERSION:2.0
PRODID:-//mrlib.org//NONSGML kigkonsult.se iCalcreator 2.30.10//
CALSCALE:GREGORIAN
METHOD:PUBLISH
UID:54d49bfe-1684-482c-b1ed-ebdd7f6f9406
X-WR-CALDESC:Join the fun as we set up a variety of board games for all age
 s.
X-WR-RELCALID:863fe61af66af338760c6723beef82cc
X-WR-TIMEZONE:America/New_York
BEGIN:VTIMEZONE
TZID:America/New_York
BEGIN:STANDARD
TZNAME:EST
DTSTART:20251102T020000
TZOFFSETFROM:-0400
TZOFFSETTO:-0500
RDATE:20261101T020000
END:STANDARD
BEGIN:DAYLIGHT
TZNAME:EDT
DTSTART:20250309T020000
TZOFFSETFROM:-0500
TZOFFSETTO:-0400
RDATE:20260308T020000
RDATE:20270314T020000
END:DAYLIGHT
END:VTIMEZONE
BEGIN:VEVENT
UID:1cb2ccf1-64f7-406f-bee3-acf648d96e88
DTSTAMP:20260419T142732Z
DESCRIPTION:Join the fun as we set up a variety of board games for all ages
 .
DTSTART;TZID=America/New_York:20260108T160000
DTEND;TZID=America/New_York:20260108T170000
LOCATION:601 Dogwood Ave\, Grottoes\, VA 24441 US
SUMMARY:Board Games @ Grottoes Branch Library
END:VEVENT
END:VCALENDAR
