BEGIN:VCALENDAR
VERSION:2.0
PRODID:-//mrlib.org//NONSGML kigkonsult.se iCalcreator 2.30.10//
CALSCALE:GREGORIAN
METHOD:PUBLISH
UID:66641faa-5c82-4282-a26d-1a7ee762fb4d
X-WR-CALDESC:School-age kids: sip hot chocolate while building fun 3-D shap
 es - like cubes\, prisms\, and snowflakes - using marshmallows!
X-WR-RELCALID:758c7ab31fb9555e0f674404c45ababc
X-WR-TIMEZONE:America/New_York
BEGIN:VTIMEZONE
TZID:America/New_York
BEGIN:STANDARD
TZNAME:EST
DTSTART:20251102T020000
TZOFFSETFROM:-0400
TZOFFSETTO:-0500
RDATE:20261101T020000
END:STANDARD
BEGIN:DAYLIGHT
TZNAME:EDT
DTSTART:20250309T020000
TZOFFSETFROM:-0500
TZOFFSETTO:-0400
RDATE:20260308T020000
RDATE:20270314T020000
END:DAYLIGHT
END:VTIMEZONE
BEGIN:VEVENT
UID:652df66a-35f9-418d-a431-6444a8865a18
DTSTAMP:20260419T140905Z
DESCRIPTION:School-age kids: sip hot chocolate while building fun 3-D shape
 s - like cubes\, prisms\, and snowflakes - using marshmallows!
DTSTART;TZID=America/New_York:20260113T160000
DTEND;TZID=America/New_York:20260113T170000
LOCATION:Village Library\, 175 N. Main Street\, Broadway\, VA 22815 US
SUMMARY:Marshmallow Madness @Village Library
END:VEVENT
END:VCALENDAR
