BEGIN:VCALENDAR
VERSION:2.0
PRODID:-//mrlib.org//NONSGML kigkonsult.se iCalcreator 2.30.10//
CALSCALE:GREGORIAN
METHOD:PUBLISH
UID:9a390e8b-bbe8-45d2-9184-23928b17fd32
X-WR-CALDESC:Adults and families are invited to Winter Seed Starting to lea
 rn about starting your garden inside your house! We'll be joined by a Cent
 ral Shenandoah Valley Master Gardener.
X-WR-RELCALID:36c343cf8229614851863f11331a92f7
X-WR-TIMEZONE:America/New_York
BEGIN:VTIMEZONE
TZID:America/New_York
BEGIN:STANDARD
TZNAME:EST
DTSTART:20251102T020000
TZOFFSETFROM:-0400
TZOFFSETTO:-0500
RDATE:20261101T020000
END:STANDARD
BEGIN:DAYLIGHT
TZNAME:EDT
DTSTART:20250309T020000
TZOFFSETFROM:-0500
TZOFFSETTO:-0400
RDATE:20260308T020000
RDATE:20270314T020000
END:DAYLIGHT
END:VTIMEZONE
BEGIN:VEVENT
UID:89a0937c-152a-4e45-8ce0-586195f370cb
DTSTAMP:20260419T141636Z
DESCRIPTION:Adults and families are invited to Winter Seed Starting to lear
 n about starting your garden inside your house! We'll be joined by a Centr
 al Shenandoah Valley Master Gardener.
DTSTART;TZID=America/New_York:20260116T130000
DTEND;TZID=America/New_York:20260116T140000
LOCATION:Village Library\, 175 N. Main Street\, Broadway\, VA 22815 US
SUMMARY:Winter Seed Starting @Village Library
END:VEVENT
END:VCALENDAR
