BEGIN:VCALENDAR
VERSION:2.0
PRODID:-//mrlib.org//NONSGML kigkonsult.se iCalcreator 2.30.10//
CALSCALE:GREGORIAN
METHOD:PUBLISH
UID:30af06d1-6581-40b4-a36d-2e323afe8c34
X-WR-CALDESC:Did you know that Appalachian singer/songwriter and philanthro
 pist Dolly Parton will be 80 years old this year? You Better Get to Livin'
 \, grab your Coat of Many Colors\, and come on down to Central Library as 
 we read Dolly's favorite books! We'll be joined by special guest Rebecca P
 orter\, a nationally-acclaimed singer and songwriter. All caregivers with 
 kids under 5 years old will have the opportunity to sign up for Dolly Part
 on's Imagination Library! Children of all ages are welcome to join us as w
 e celebrate Dolly Parton's music\, influence\, and Imagination. \n\nAbout 
 Rebecca Porter:\nBorn in Guam and raised in the Shenandoah Valley\, Rebecc
 a Porter blends soulful melodies and fearless lyrics with her honey-smooth
  voice to create her own brand of Appalachian honky tonk! Her 2023 EP\, Qu
 een of the Local\, earned national acclaim and led to recognition in Rissi
  Palmer's Color Me Country Class of 2024\, features on Ed Helms' Good Coun
 try\, and a debut on NPR's Mountain Stage. Known for electrifying live per
 formances\, Porter captivates audiences with her emotional intensity and g
 rit. Porter's personal and raw storytelling continues to push boundaries\,
  projecting a cinematic soundscape that balances traditional country's rug
 ged spirit with an unapologetic journey of perseverance.
X-WR-RELCALID:e0b61d619d6eb34e9de0554c339f4f66
X-WR-TIMEZONE:America/New_York
BEGIN:VTIMEZONE
TZID:America/New_York
BEGIN:STANDARD
TZNAME:EST
DTSTART:20251102T020000
TZOFFSETFROM:-0400
TZOFFSETTO:-0500
RDATE:20261101T020000
END:STANDARD
BEGIN:DAYLIGHT
TZNAME:EDT
DTSTART:20250309T020000
TZOFFSETFROM:-0500
TZOFFSETTO:-0400
RDATE:20260308T020000
RDATE:20270314T020000
END:DAYLIGHT
END:VTIMEZONE
BEGIN:VEVENT
UID:5be9cde4-9502-4bc3-b374-4c56bc8d1944
DTSTAMP:20260419T141958Z
DESCRIPTION:Did you know that Appalachian singer/songwriter and philanthrop
 ist Dolly Parton will be 80 years old this year? You Better Get to Livin'\
 , grab your Coat of Many Colors\, and come on down to Central Library as w
 e read Dolly's favorite books! We'll be joined by special guest Rebecca Po
 rter\, a nationally-acclaimed singer and songwriter. All caregivers with k
 ids under 5 years old will have the opportunity to sign up for Dolly Parto
 n's Imagination Library! Children of all ages are welcome to join us as we
  celebrate Dolly Parton's music\, influence\, and Imagination. \n\nAbout R
 ebecca Porter:\nBorn in Guam and raised in the Shenandoah Valley\, Rebecca
  Porter blends soulful melodies and fearless lyrics with her honey-smooth 
 voice to create her own brand of Appalachian honky tonk! Her 2023 EP\, Que
 en of the Local\, earned national acclaim and led to recognition in Rissi 
 Palmer's Color Me Country Class of 2024\, features on Ed Helms' Good Count
 ry\, and a debut on NPR's Mountain Stage. Known for electrifying live perf
 ormances\, Porter captivates audiences with her emotional intensity and gr
 it. Porter's personal and raw storytelling continues to push boundaries\, 
 projecting a cinematic soundscape that balances traditional country's rugg
 ed spirit with an unapologetic journey of perseverance.
DTSTART;TZID=America/New_York:20260117T110000
DTEND;TZID=America/New_York:20260117T120000
LOCATION:Central Library\, 174 S. Main Street\, Harrisonburg\, VA 22801 US
SUMMARY:Dolly Parton's Story Time Party @Central Library
END:VEVENT
END:VCALENDAR
