BEGIN:VCALENDAR
VERSION:2.0
PRODID:-//mrlib.org//NONSGML kigkonsult.se iCalcreator 2.30.10//
CALSCALE:GREGORIAN
METHOD:PUBLISH
UID:85939c93-ba2c-48c3-b7d5-9f80a9aa5c6c
X-WR-CALDESC:All MRL branches are closed in observance of Martin Luther Kin
 g\, Jr. Day.
X-WR-RELCALID:f92ac17f59b16e9d4bef1be827f47dfd
X-WR-TIMEZONE:America/New_York
BEGIN:VTIMEZONE
TZID:America/New_York
BEGIN:STANDARD
TZNAME:EST
DTSTART:20251102T020000
TZOFFSETFROM:-0400
TZOFFSETTO:-0500
RDATE:20261101T020000
END:STANDARD
BEGIN:DAYLIGHT
TZNAME:EDT
DTSTART:20250309T020000
TZOFFSETFROM:-0500
TZOFFSETTO:-0400
RDATE:20260308T020000
RDATE:20270314T020000
END:DAYLIGHT
END:VTIMEZONE
BEGIN:VEVENT
UID:3518ae0c-5245-45a7-9c46-f8077d75a38f
DTSTAMP:20260419T141830Z
DESCRIPTION:All MRL branches are closed in observance of Martin Luther King
 \, Jr. Day.
DTSTART;TZID=America/New_York:20260119T060000
DTEND;TZID=America/New_York:20260119T060001
LOCATION:
SUMMARY:ALL MRL BRANCHES CLOSED FOR MLK DAY
END:VEVENT
END:VCALENDAR
