BEGIN:VCALENDAR
VERSION:2.0
PRODID:-//mrlib.org//NONSGML kigkonsult.se iCalcreator 2.30.10//
CALSCALE:GREGORIAN
METHOD:PUBLISH
UID:97e71f4d-ed0e-4442-bb24-3a359cd5039f
X-WR-CALDESC:REGISTRATION FULL - please email Barbara Andes at bandes@mrlib
 .org or call Village Library at (540)434-4475 ext. 700 to add your family 
 to the waiting list. \n\nAll ages: test your puzzle skills AND your luck a
 t our puzzle race! Teams will randomly draw numbers to choose 500-piece pu
 zzles and compete for first place! Does your team have what it takes to fi
 nish their puzzle first? \n\nSpace is limited\, so click the 'Register Now
 ' button to save a spot for your team (only 1 ticket/registration required
  per team)
X-WR-RELCALID:bc8a20a90f8b9ab7dfcf43d1185bb705
X-WR-TIMEZONE:America/New_York
BEGIN:VTIMEZONE
TZID:America/New_York
BEGIN:STANDARD
TZNAME:EST
DTSTART:20251102T020000
TZOFFSETFROM:-0400
TZOFFSETTO:-0500
RDATE:20261101T020000
END:STANDARD
BEGIN:DAYLIGHT
TZNAME:EDT
DTSTART:20250309T020000
TZOFFSETFROM:-0500
TZOFFSETTO:-0400
RDATE:20260308T020000
RDATE:20270314T020000
END:DAYLIGHT
END:VTIMEZONE
BEGIN:VEVENT
UID:b2c205d5-0ae5-4b96-a89b-c1548bb6d5c5
DTSTAMP:20260419T142953Z
DESCRIPTION:REGISTRATION FULL - please email Barbara Andes at bandes@mrlib.
 org or call Village Library at (540)434-4475 ext. 700 to add your family t
 o the waiting list. \n\nAll ages: test your puzzle skills AND your luck at
  our puzzle race! Teams will randomly draw numbers to choose 500-piece puz
 zles and compete for first place! Does your team have what it takes to fin
 ish their puzzle first? \n\nSpace is limited\, so click the 'Register Now'
  button to save a spot for your team (only 1 ticket/registration required 
 per team)
DTSTART;TZID=America/New_York:20260124T110000
DTEND;TZID=America/New_York:20260124T130000
LOCATION:Village Library\, 175 N. Main Street\, Broadway\, VA 22815 US
SUMMARY:REGISTRATION FULL: Luck of the Draw Puzzle Race @Village Library
END:VEVENT
END:VCALENDAR
