BEGIN:VCALENDAR
VERSION:2.0
PRODID:-//mrlib.org//NONSGML kigkonsult.se iCalcreator 2.30.10//
CALSCALE:GREGORIAN
METHOD:PUBLISH
UID:3489f352-607f-40fe-9ebc-5dc098a5cab1
X-WR-CALDESC:Children of all ages and their caregivers will enjoy books\, s
 ongs\, and crafts that encourage early literacy skill development.
X-WR-RELCALID:c4b87185e2447291c56e3bbdad7e1336
X-WR-TIMEZONE:America/New_York
BEGIN:VTIMEZONE
TZID:America/New_York
BEGIN:STANDARD
TZNAME:EST
DTSTART:20251102T020000
TZOFFSETFROM:-0400
TZOFFSETTO:-0500
RDATE:20261101T020000
END:STANDARD
BEGIN:DAYLIGHT
TZNAME:EDT
DTSTART:20250309T020000
TZOFFSETFROM:-0500
TZOFFSETTO:-0400
RDATE:20260308T020000
RDATE:20270314T020000
END:DAYLIGHT
END:VTIMEZONE
BEGIN:VEVENT
UID:b614b3bc-536c-4a0d-a439-07c6735b1ae5
DTSTAMP:20260419T142306Z
DESCRIPTION:Children of all ages and their caregivers will enjoy books\, so
 ngs\, and crafts that encourage early literacy skill development.
DTSTART;TZID=America/New_York:20260126T103000
DTEND;TZID=America/New_York:20260126T110000
LOCATION:Page Public Library\, 100 Zerkel Street\, Luray\, VA 22835 US
SUMMARY:Fantastic Family Fun @Page Public Library
END:VEVENT
END:VCALENDAR
