BEGIN:VCALENDAR
VERSION:2.0
PRODID:-//mrlib.org//NONSGML kigkonsult.se iCalcreator 2.30.10//
CALSCALE:GREGORIAN
METHOD:PUBLISH
UID:2e4483bf-4e1a-480e-9f7e-37de2380b57e
X-WR-CALDESC:People of all ages are invited to drop in to Page Public Libra
 ry every Tuesday for puzzle fun with other jigsaw junkies!
X-WR-RELCALID:7b02fff0c2bec9bd278e1932600b6455
X-WR-TIMEZONE:America/New_York
BEGIN:VTIMEZONE
TZID:America/New_York
BEGIN:STANDARD
TZNAME:EST
DTSTART:20251102T020000
TZOFFSETFROM:-0400
TZOFFSETTO:-0500
RDATE:20261101T020000
END:STANDARD
BEGIN:DAYLIGHT
TZNAME:EDT
DTSTART:20250309T020000
TZOFFSETFROM:-0500
TZOFFSETTO:-0400
RDATE:20260308T020000
RDATE:20270314T020000
END:DAYLIGHT
END:VTIMEZONE
BEGIN:VEVENT
UID:ab8aa269-9430-41e3-a1eb-5cc181eb4067
DTSTAMP:20260419T142137Z
DESCRIPTION:People of all ages are invited to drop in to Page Public Librar
 y every Tuesday for puzzle fun with other jigsaw junkies!
DTSTART;TZID=America/New_York:20260127T160000
DTEND;TZID=America/New_York:20260127T170000
LOCATION:Page Public Library\, 100 Zerkel Street\, Luray\, VA 22835 US
SUMMARY:Jigsaw Junkies @Page Public Library
END:VEVENT
END:VCALENDAR
