BEGIN:VCALENDAR
VERSION:2.0
PRODID:-//mrlib.org//NONSGML kigkonsult.se iCalcreator 2.30.10//
CALSCALE:GREGORIAN
METHOD:PUBLISH
UID:4e7e7362-d509-4417-8117-bed9c9b57578
X-WR-CALDESC:Dogs are wonderful listeners and love to hear stories! Dogs 2 
 Read 2 is a great chance for kids in grades K-5 to practice their reading 
 skills with Timber\, a wonderful and well-behaved pup. \n\n*All Dogs 2 Rea
 d 2 pups are trained and certified through the Alliance of Therapy Dogs*
X-WR-RELCALID:0951f8ae26610c8b046aa78fdc4af4e9
X-WR-TIMEZONE:America/New_York
BEGIN:VTIMEZONE
TZID:America/New_York
BEGIN:STANDARD
TZNAME:EST
DTSTART:20251102T020000
TZOFFSETFROM:-0400
TZOFFSETTO:-0500
RDATE:20261101T020000
END:STANDARD
BEGIN:DAYLIGHT
TZNAME:EDT
DTSTART:20250309T020000
TZOFFSETFROM:-0500
TZOFFSETTO:-0400
RDATE:20260308T020000
RDATE:20270314T020000
END:DAYLIGHT
END:VTIMEZONE
BEGIN:VEVENT
UID:e0ce29f2-81d6-42b1-aede-075e5962c6e8
DTSTAMP:20260419T142741Z
DESCRIPTION:Dogs are wonderful listeners and love to hear stories! Dogs 2 R
 ead 2 is a great chance for kids in grades K-5 to practice their reading s
 kills with Timber\, a wonderful and well-behaved pup. \n\n*All Dogs 2 Read
  2 pups are trained and certified through the Alliance of Therapy Dogs*
DTSTART;TZID=America/New_York:20260128T160000
DTEND;TZID=America/New_York:20260128T170000
LOCATION:Elkton Community Library\, 106 N. Terrace Avenue\, Elkton\, VA 228
 27 US
SUMMARY:Dogs 2 Read 2 @Elkton Community Library
END:VEVENT
END:VCALENDAR
