BEGIN:VCALENDAR
VERSION:2.0
PRODID:-//mrlib.org//NONSGML kigkonsult.se iCalcreator 2.30.10//
CALSCALE:GREGORIAN
METHOD:PUBLISH
UID:807b5921-11e1-4eae-928e-4187aad5141b
X-WR-CALDESC:K-5 kids: learn all kinds of shocking information about electr
 icity and circuits at our hands-on STEM program! We'll create circuits to 
 power fans\, lights\, and even sirens!
X-WR-RELCALID:8afea69b630f642b7485f4068d4b4fc0
X-WR-TIMEZONE:America/New_York
BEGIN:VTIMEZONE
TZID:America/New_York
BEGIN:STANDARD
TZNAME:EST
DTSTART:20251102T020000
TZOFFSETFROM:-0400
TZOFFSETTO:-0500
RDATE:20261101T020000
END:STANDARD
BEGIN:DAYLIGHT
TZNAME:EDT
DTSTART:20250309T020000
TZOFFSETFROM:-0500
TZOFFSETTO:-0400
RDATE:20260308T020000
RDATE:20270314T020000
END:DAYLIGHT
END:VTIMEZONE
BEGIN:VEVENT
UID:3192d807-0ccd-4b0b-a590-853de090947a
DTSTAMP:20260419T140957Z
DESCRIPTION:K-5 kids: learn all kinds of shocking information about electri
 city and circuits at our hands-on STEM program! We'll create circuits to p
 ower fans\, lights\, and even sirens!
DTSTART;TZID=America/New_York:20260129T160000
DTEND;TZID=America/New_York:20260129T170000
LOCATION:Central Library\, 174 S. Main Street\, Harrisonburg\, VA 22801 US
SUMMARY:Electrifying STEM @Central Library
END:VEVENT
END:VCALENDAR
