BEGIN:VCALENDAR
VERSION:2.0
PRODID:-//mrlib.org//NONSGML kigkonsult.se iCalcreator 2.30.10//
CALSCALE:GREGORIAN
METHOD:PUBLISH
UID:9d4a8b1c-840d-46f7-838e-a4214658d130
X-WR-CALDESC:3-5 year olds and their caregivers are invited to hear stories
 \, sing songs\, and participate in fun activities that promote school read
 iness.
X-WR-RELCALID:7a486f83d4c3c0505a01e616512d00a4
X-WR-TIMEZONE:America/New_York
BEGIN:VTIMEZONE
TZID:America/New_York
BEGIN:STANDARD
TZNAME:EST
DTSTART:20251102T020000
TZOFFSETFROM:-0400
TZOFFSETTO:-0500
RDATE:20261101T020000
END:STANDARD
BEGIN:DAYLIGHT
TZNAME:EDT
DTSTART:20250309T020000
TZOFFSETFROM:-0500
TZOFFSETTO:-0400
RDATE:20260308T020000
RDATE:20270314T020000
END:DAYLIGHT
END:VTIMEZONE
BEGIN:VEVENT
UID:1e5d20fe-4c34-40ac-bc8b-519eac275a00
DTSTAMP:20260419T123744Z
DESCRIPTION:3-5 year olds and their caregivers are invited to hear stories\
 , sing songs\, and participate in fun activities that promote school readi
 ness.
DTSTART;TZID=America/New_York:20260203T110000
DTEND;TZID=America/New_York:20260203T113000
LOCATION:Central Library\, 174 S. Main St.\, Harrisonburg\, VA 22801 US
SUMMARY:Playful Preschoolers @ Central Library
END:VEVENT
END:VCALENDAR
