BEGIN:VCALENDAR
VERSION:2.0
PRODID:-//mrlib.org//NONSGML kigkonsult.se iCalcreator 2.30.10//
CALSCALE:GREGORIAN
METHOD:PUBLISH
UID:980870e9-ba24-4151-b595-58334d3947cf
X-WR-CALDESC:Children of all ages and their caregivers will enjoy Valentine
 's Day books\, songs\, and crafts that encourage early literacy skill deve
 lopment!
X-WR-RELCALID:4561d9b55a0c7d7b2c27ac7babf8f09c
X-WR-TIMEZONE:America/New_York
BEGIN:VTIMEZONE
TZID:America/New_York
BEGIN:STANDARD
TZNAME:EST
DTSTART:20251102T020000
TZOFFSETFROM:-0400
TZOFFSETTO:-0500
RDATE:20261101T020000
END:STANDARD
BEGIN:DAYLIGHT
TZNAME:EDT
DTSTART:20250309T020000
TZOFFSETFROM:-0500
TZOFFSETTO:-0400
RDATE:20260308T020000
RDATE:20270314T020000
END:DAYLIGHT
END:VTIMEZONE
BEGIN:VEVENT
UID:092ac8d5-7029-497a-86da-4ca956ec66f0
DTSTAMP:20260419T125944Z
DESCRIPTION:Children of all ages and their caregivers will enjoy Valentine'
 s Day books\, songs\, and crafts that encourage early literacy skill devel
 opment!
DTSTART;TZID=America/New_York:20260209T103000
DTEND;TZID=America/New_York:20260209T110000
LOCATION:Elkton Community Library\, 106 North Terrace Avenue\, Elkton\, VA 
 22827 US
SUMMARY:Valentine's Day Story Time and Craft @Elkton Community Library
END:VEVENT
END:VCALENDAR
