BEGIN:VCALENDAR
VERSION:2.0
PRODID:-//mrlib.org//NONSGML kigkonsult.se iCalcreator 2.30.10//
CALSCALE:GREGORIAN
METHOD:PUBLISH
UID:b718c9a2-e6f9-4dc5-8eb1-5efb2316ca94
X-WR-CALDESC:Kids ages 0-5: enjoy Valentine's Day books and songs\, and cre
 ate cards for friends and family!
X-WR-RELCALID:647c575eb53728b779d03394f99f7b91
X-WR-TIMEZONE:America/New_York
BEGIN:VTIMEZONE
TZID:America/New_York
BEGIN:STANDARD
TZNAME:EST
DTSTART:20251102T020000
TZOFFSETFROM:-0400
TZOFFSETTO:-0500
RDATE:20261101T020000
END:STANDARD
BEGIN:DAYLIGHT
TZNAME:EDT
DTSTART:20250309T020000
TZOFFSETFROM:-0500
TZOFFSETTO:-0400
RDATE:20260308T020000
RDATE:20270314T020000
END:DAYLIGHT
END:VTIMEZONE
BEGIN:VEVENT
UID:8cf10313-e37d-415e-ac27-964732fc7afa
DTSTAMP:20260419T130023Z
DESCRIPTION:Kids ages 0-5: enjoy Valentine's Day books and songs\, and crea
 te cards for friends and family!
DTSTART;TZID=America/New_York:20260210T110000
DTEND;TZID=America/New_York:20260210T120000
LOCATION:Shenandoah Community Library\, 418 S. Third Street\, Shenandoah\, 
 AL 22849 US
SUMMARY:Valentine's Day Story Time and Craft @Shenandoah Community Library
END:VEVENT
END:VCALENDAR
