BEGIN:VCALENDAR
VERSION:2.0
PRODID:-//mrlib.org//NONSGML kigkonsult.se iCalcreator 2.30.10//
CALSCALE:GREGORIAN
METHOD:PUBLISH
UID:03d9694a-92fc-4389-bfc2-e49ac2c663c2
X-WR-CALDESC:Dogs are wonderful listeners and love to hear stories! Dogs 2 
 Read 2 is a great chance for kids in grades K-5 to practice their reading 
 skills with a wonderful and well-behaved pup. Come meet Mac\, a certified 
 therapy dog through the Alliance for Therapy Dogs!
X-WR-RELCALID:7bc476be21f340ca303bc3251b301d7b
X-WR-TIMEZONE:America/New_York
BEGIN:VTIMEZONE
TZID:America/New_York
BEGIN:STANDARD
TZNAME:EST
DTSTART:20251102T020000
TZOFFSETFROM:-0400
TZOFFSETTO:-0500
RDATE:20261101T020000
END:STANDARD
BEGIN:DAYLIGHT
TZNAME:EDT
DTSTART:20250309T020000
TZOFFSETFROM:-0500
TZOFFSETTO:-0400
RDATE:20260308T020000
RDATE:20270314T020000
END:DAYLIGHT
END:VTIMEZONE
BEGIN:VEVENT
UID:90953d3a-96b0-477a-8a5b-4c2aab334e9d
DTSTAMP:20260419T124344Z
DESCRIPTION:Dogs are wonderful listeners and love to hear stories! Dogs 2 R
 ead 2 is a great chance for kids in grades K-5 to practice their reading s
 kills with a wonderful and well-behaved pup. Come meet Mac\, a certified t
 herapy dog through the Alliance for Therapy Dogs!
DTSTART;TZID=America/New_York:20260210T170000
DTEND;TZID=America/New_York:20260210T180000
LOCATION:Village Library\, 175 N. Main Street\, Broadway\, VA 22815 US
SUMMARY:Dogs 2 Read 2 @Village Library
END:VEVENT
END:VCALENDAR
