BEGIN:VCALENDAR
VERSION:2.0
PRODID:-//mrlib.org//NONSGML kigkonsult.se iCalcreator 2.30.10//
CALSCALE:GREGORIAN
METHOD:PUBLISH
UID:94c3f937-60e6-47ad-9f3e-9f3050b2cfd4
X-WR-CALDESC:Kids ages 0-5: enjoy Valentine's Day books and songs\, and cre
 ate cards for friends and family!
X-WR-RELCALID:62c712aaf3c0de2f06d276aca4a08d03
X-WR-TIMEZONE:America/New_York
BEGIN:VTIMEZONE
TZID:America/New_York
BEGIN:STANDARD
TZNAME:EST
DTSTART:20251102T020000
TZOFFSETFROM:-0400
TZOFFSETTO:-0500
RDATE:20261101T020000
END:STANDARD
BEGIN:DAYLIGHT
TZNAME:EDT
DTSTART:20250309T020000
TZOFFSETFROM:-0500
TZOFFSETTO:-0400
RDATE:20260308T020000
RDATE:20270314T020000
END:DAYLIGHT
END:VTIMEZONE
BEGIN:VEVENT
UID:6bc45537-5067-418d-a005-31e5dfc9d534
DTSTAMP:20260419T125607Z
DESCRIPTION:Kids ages 0-5: enjoy Valentine's Day books and songs\, and crea
 te cards for friends and family!
DTSTART;TZID=America/New_York:20260212T103000
DTEND;TZID=America/New_York:20260212T113000
LOCATION:Page Public Library\, 100 Zerkel Street\, Luray\, VA 22835 US
SUMMARY:Valentine's Day Story Time and Craft @Page Public Library
END:VEVENT
END:VCALENDAR
