BEGIN:VCALENDAR
VERSION:2.0
PRODID:-//mrlib.org//NONSGML kigkonsult.se iCalcreator 2.30.10//
CALSCALE:GREGORIAN
METHOD:PUBLISH
UID:d0434a58-2579-423f-8c51-01cc14173165
X-WR-CALDESC:Dogs are wonderful listeners and love to hear stories being to
 ld to them! Dogs 2 Read 2 is a great chance for kids in grades K-5 to prac
 tice their reading skills with a wonderful and well-behaved pup. Come meet
  Kenna\, a certified therapy dog through the Alliance for Therapy Dogs. Ke
 nna is a familiar\, friendly face at many local schools and loves to have 
 stories read to her!
X-WR-RELCALID:b3eb274c0228bd8bead661d7dadcad52
X-WR-TIMEZONE:America/New_York
BEGIN:VTIMEZONE
TZID:America/New_York
BEGIN:STANDARD
TZNAME:EST
DTSTART:20251102T020000
TZOFFSETFROM:-0400
TZOFFSETTO:-0500
RDATE:20261101T020000
END:STANDARD
BEGIN:DAYLIGHT
TZNAME:EDT
DTSTART:20250309T020000
TZOFFSETFROM:-0500
TZOFFSETTO:-0400
RDATE:20260308T020000
RDATE:20270314T020000
END:DAYLIGHT
END:VTIMEZONE
BEGIN:VEVENT
UID:714414c8-c16a-4989-abfb-da7074965ddb
DTSTAMP:20260419T123945Z
DESCRIPTION:Dogs are wonderful listeners and love to hear stories being tol
 d to them! Dogs 2 Read 2 is a great chance for kids in grades K-5 to pract
 ice their reading skills with a wonderful and well-behaved pup. Come meet 
 Kenna\, a certified therapy dog through the Alliance for Therapy Dogs. Ken
 na is a familiar\, friendly face at many local schools and loves to have s
 tories read to her!
DTSTART;TZID=America/New_York:20260214T110000
DTEND;TZID=America/New_York:20260214T120000
LOCATION:Village Library\, 175 N. Main Street\, Broadway\, VA 22815 US
SUMMARY:Dogs 2 Read 2 @ Village Library
END:VEVENT
END:VCALENDAR
