BEGIN:VCALENDAR
VERSION:2.0
PRODID:-//mrlib.org//NONSGML kigkonsult.se iCalcreator 2.30.10//
CALSCALE:GREGORIAN
METHOD:PUBLISH
UID:d2b63855-bb00-422f-834d-7c297c986e83
X-WR-CALDESC:Children of all ages and their caregivers will enjoy books\, s
 ongs\, and crafts that encourage early literacy skill development!
X-WR-RELCALID:7d93a7e97ecd099a821d863e895e37d1
X-WR-TIMEZONE:America/New_York
BEGIN:VTIMEZONE
TZID:America/New_York
BEGIN:STANDARD
TZNAME:EST
DTSTART:20251102T020000
TZOFFSETFROM:-0400
TZOFFSETTO:-0500
RDATE:20261101T020000
END:STANDARD
BEGIN:DAYLIGHT
TZNAME:EDT
DTSTART:20250309T020000
TZOFFSETFROM:-0500
TZOFFSETTO:-0400
RDATE:20260308T020000
RDATE:20270314T020000
END:DAYLIGHT
END:VTIMEZONE
BEGIN:VEVENT
UID:80cf743e-cf34-44d9-83f5-0ce479d8ef43
DTSTAMP:20260419T125429Z
DESCRIPTION:Children of all ages and their caregivers will enjoy books\, so
 ngs\, and crafts that encourage early literacy skill development!
DTSTART;TZID=America/New_York:20260216T103000
DTEND;TZID=America/New_York:20260216T110000
LOCATION:Elkton Community Library\, 106 North Terrace Avenue\, Elkton\, VA 
 22827 US
SUMMARY:Fantastic Family Fun @Elkton Community Library
END:VEVENT
END:VCALENDAR
