BEGIN:VCALENDAR
VERSION:2.0
PRODID:-//mrlib.org//NONSGML kigkonsult.se iCalcreator 2.30.10//
CALSCALE:GREGORIAN
METHOD:PUBLISH
UID:c734c5ed-1e31-467b-b74d-1432ca690af0
X-WR-CALDESC:Kids in Pre-K through elementary school: drop in to Village Li
 brary between 11 AM and 1 PM to explore creative play stations\, from magn
 etic building sets and KEVA planks to a castle!
X-WR-RELCALID:9c87b5993668e3e5501dc7deef8f3e72
X-WR-TIMEZONE:America/New_York
BEGIN:VTIMEZONE
TZID:America/New_York
BEGIN:STANDARD
TZNAME:EST
DTSTART:20251102T020000
TZOFFSETFROM:-0400
TZOFFSETTO:-0500
RDATE:20261101T020000
END:STANDARD
BEGIN:DAYLIGHT
TZNAME:EDT
DTSTART:20250309T020000
TZOFFSETFROM:-0500
TZOFFSETTO:-0400
RDATE:20260308T020000
RDATE:20270314T020000
END:DAYLIGHT
END:VTIMEZONE
BEGIN:VEVENT
UID:3453fb43-35c8-4e96-b087-2420496e03a3
DTSTAMP:20260419T123531Z
DESCRIPTION:Kids in Pre-K through elementary school: drop in to Village Lib
 rary between 11 AM and 1 PM to explore creative play stations\, from magne
 tic building sets and KEVA planks to a castle!
DTSTART;TZID=America/New_York:20260216T110000
DTEND;TZID=America/New_York:20260216T130000
LOCATION:Village Library\, 175 N. Main Street\, Broadway\, VA 22815 US
SUMMARY:Creative Play @Village Library
END:VEVENT
END:VCALENDAR
