BEGIN:VCALENDAR
VERSION:2.0
PRODID:-//mrlib.org//NONSGML kigkonsult.se iCalcreator 2.30.10//
CALSCALE:GREGORIAN
METHOD:PUBLISH
UID:df870cb7-7d21-4cca-8039-eb54fdf7a2cd
X-WR-CALDESC:PLEASE NOTE: February's Dogs 2 Read 2 has been moved from Feb.
  25 to Feb. 19. After February\, Dogs 2 Read 2 will continue to be every 4
 th Wednesday of the month.\n\nDogs are wonderful listeners and love to hea
 r stories! Dogs 2 Read 2 is a great chance for kids in grades K-5 to pract
 ice their reading skills with Timber\, a wonderful and well-behaved pup. 
 \n\n*All Dogs 2 Read 2 pups are trained and certified through the Alliance
  of Therapy Dogs*
X-WR-RELCALID:7789b138362060578423786b16ed5a36
X-WR-TIMEZONE:America/New_York
BEGIN:VTIMEZONE
TZID:America/New_York
BEGIN:STANDARD
TZNAME:EST
DTSTART:20251102T020000
TZOFFSETFROM:-0400
TZOFFSETTO:-0500
RDATE:20261101T020000
END:STANDARD
BEGIN:DAYLIGHT
TZNAME:EDT
DTSTART:20250309T020000
TZOFFSETFROM:-0500
TZOFFSETTO:-0400
RDATE:20260308T020000
RDATE:20270314T020000
END:DAYLIGHT
END:VTIMEZONE
BEGIN:VEVENT
UID:2da9eede-04f2-4ea0-b6a3-b564b17f886e
DTSTAMP:20260419T124156Z
DESCRIPTION:PLEASE NOTE: February's Dogs 2 Read 2 has been moved from Feb. 
 25 to Feb. 19. After February\, Dogs 2 Read 2 will continue to be every 4t
 h Wednesday of the month.\n\nDogs are wonderful listeners and love to hear
  stories! Dogs 2 Read 2 is a great chance for kids in grades K-5 to practi
 ce their reading skills with Timber\, a wonderful and well-behaved pup. \n
 \n*All Dogs 2 Read 2 pups are trained and certified through the Alliance o
 f Therapy Dogs*
DTSTART;TZID=America/New_York:20260219T160000
DTEND;TZID=America/New_York:20260219T170000
LOCATION:Elkton Community Library\, 106 N. Terrace Avenue\, Elkton\, VA 228
 27 US
SUMMARY:Dogs 2 Read 2 @Elkton Community Library
END:VEVENT
END:VCALENDAR
