BEGIN:VCALENDAR
VERSION:2.0
PRODID:-//mrlib.org//NONSGML kigkonsult.se iCalcreator 2.30.10//
CALSCALE:GREGORIAN
METHOD:PUBLISH
UID:d1881aa4-2663-449a-aa16-bbec4a68dd13
X-WR-CALDESC:Let your imagination soar and develop engineering skills while
  building with LEGO blocks. LEGO Club is geared towards kindergarten throu
 gh 5th grade youth.
X-WR-RELCALID:f4719d3d683e98f35ec3aa4259dc1683
X-WR-TIMEZONE:America/New_York
BEGIN:VTIMEZONE
TZID:America/New_York
BEGIN:STANDARD
TZNAME:EST
DTSTART:20251102T020000
TZOFFSETFROM:-0400
TZOFFSETTO:-0500
RDATE:20261101T020000
END:STANDARD
BEGIN:DAYLIGHT
TZNAME:EDT
DTSTART:20250309T020000
TZOFFSETFROM:-0500
TZOFFSETTO:-0400
RDATE:20260308T020000
RDATE:20270314T020000
END:DAYLIGHT
END:VTIMEZONE
BEGIN:VEVENT
UID:d5a50246-b213-4d04-86cc-ccba7adc3847
DTSTAMP:20260419T125915Z
DESCRIPTION:Let your imagination soar and develop engineering skills while 
 building with LEGO blocks. LEGO Club is geared towards kindergarten throug
 h 5th grade youth.
DTSTART;TZID=America/New_York:20260219T160000
DTEND;TZID=America/New_York:20260219T170000
LOCATION:601 Dogwood Ave\, Grottoes\, VA 24441 US
SUMMARY:LEGO Club @ Grottoes Branch Library
END:VEVENT
END:VCALENDAR
