BEGIN:VCALENDAR
VERSION:2.0
PRODID:-//mrlib.org//NONSGML kigkonsult.se iCalcreator 2.30.10//
CALSCALE:GREGORIAN
METHOD:PUBLISH
UID:fc9449cb-452a-4618-9363-8cd1c00d4b1b
X-WR-CALDESC:All ages are invited to an afternoon of classical and contempo
 rary music performed by the Harrisonburg nonprofit chapter of Musical Memo
 ries! The concert is completely free\, although Musical Memories will be a
 ccepting donations to support the Rockingham-Harrisonburg SPCA. Whether yo
 u'd like to enjoy live music\, support local talent\, or connect with othe
 r community members\, stop by the Musical Memories Winter Concert!
X-WR-RELCALID:fd273bf5ce6d724342b9129b90bc642b
X-WR-TIMEZONE:America/New_York
BEGIN:VTIMEZONE
TZID:America/New_York
BEGIN:STANDARD
TZNAME:EST
DTSTART:20251102T020000
TZOFFSETFROM:-0400
TZOFFSETTO:-0500
RDATE:20261101T020000
END:STANDARD
BEGIN:DAYLIGHT
TZNAME:EDT
DTSTART:20250309T020000
TZOFFSETFROM:-0500
TZOFFSETTO:-0400
RDATE:20260308T020000
RDATE:20270314T020000
END:DAYLIGHT
END:VTIMEZONE
BEGIN:VEVENT
UID:8f141887-debe-4fbc-84c4-432c9d54293e
DTSTAMP:20260419T123639Z
DESCRIPTION:All ages are invited to an afternoon of classical and contempor
 ary music performed by the Harrisonburg nonprofit chapter of Musical Memor
 ies! The concert is completely free\, although Musical Memories will be ac
 cepting donations to support the Rockingham-Harrisonburg SPCA. Whether you
 'd like to enjoy live music\, support local talent\, or connect with other
  community members\, stop by the Musical Memories Winter Concert!
DTSTART;TZID=America/New_York:20260221T130000
DTEND;TZID=America/New_York:20260221T140000
LOCATION:Central Library\, 174 S. Main Street\, Harrisonburg\, VA 22801 US
SUMMARY:Musical Memories Winter Concert @Central Library
END:VEVENT
END:VCALENDAR
