BEGIN:VCALENDAR
VERSION:2.0
PRODID:-//mrlib.org//NONSGML kigkonsult.se iCalcreator 2.30.10//
CALSCALE:GREGORIAN
METHOD:PUBLISH
UID:fcf59385-0142-48e5-a18a-db94fd78db8e
X-WR-CALDESC:People of all ages and skill levels can gather to work on thei
 r latest craft projects every 4th Tuesday of the month! Share your creatio
 ns and make new friends!
X-WR-RELCALID:34f4441441f88fc061b8298be8ed4fae
X-WR-TIMEZONE:America/New_York
BEGIN:VTIMEZONE
TZID:America/New_York
BEGIN:STANDARD
TZNAME:EST
DTSTART:20251102T020000
TZOFFSETFROM:-0400
TZOFFSETTO:-0500
RDATE:20261101T020000
END:STANDARD
BEGIN:DAYLIGHT
TZNAME:EDT
DTSTART:20250309T020000
TZOFFSETFROM:-0500
TZOFFSETTO:-0400
RDATE:20260308T020000
RDATE:20270314T020000
END:DAYLIGHT
END:VTIMEZONE
BEGIN:VEVENT
UID:a05dcf97-e016-407b-aeca-e5f26c5674d3
DTSTAMP:20260419T123706Z
DESCRIPTION:People of all ages and skill levels can gather to work on their
  latest craft projects every 4th Tuesday of the month! Share your creation
 s and make new friends!
DTSTART;TZID=America/New_York:20260224T153000
DTEND;TZID=America/New_York:20260224T163000
LOCATION:North River Library\, 118 Mt. Crawford Avenue\, Bridgewater\, VA 2
 2812 US
SUMMARY:Crafting Together @North River Library
END:VEVENT
END:VCALENDAR
