BEGIN:VCALENDAR
VERSION:2.0
PRODID:-//mrlib.org//NONSGML kigkonsult.se iCalcreator 2.30.10//
CALSCALE:GREGORIAN
METHOD:PUBLISH
UID:8f8ba9c2-652b-4ac1-92fe-94f680049c28
X-WR-CALDESC:3-5 year olds and their caregivers are invited to hear stories
 \, sing songs\, and participate in fun activities that promote school read
 iness.
X-WR-RELCALID:7ce1b8402ac0a1c7df1716c655e13bfd
X-WR-TIMEZONE:America/New_York
BEGIN:VTIMEZONE
TZID:America/New_York
BEGIN:STANDARD
TZNAME:EST
DTSTART:20251102T020000
TZOFFSETFROM:-0400
TZOFFSETTO:-0500
RDATE:20261101T020000
END:STANDARD
BEGIN:DAYLIGHT
TZNAME:EDT
DTSTART:20250309T020000
TZOFFSETFROM:-0500
TZOFFSETTO:-0400
RDATE:20260308T020000
RDATE:20270314T020000
END:DAYLIGHT
END:VTIMEZONE
BEGIN:VEVENT
UID:b65085f6-98c7-4677-b6be-0fdb516f73a1
DTSTAMP:20260419T123846Z
DESCRIPTION:3-5 year olds and their caregivers are invited to hear stories\
 , sing songs\, and participate in fun activities that promote school readi
 ness.
DTSTART;TZID=America/New_York:20260225T110000
DTEND;TZID=America/New_York:20260225T113000
LOCATION:Central Library\, 174 S. Main St.\, Harrisonburg\, VA 22801 US
SUMMARY:Playful Preschoolers @ Central Library
END:VEVENT
END:VCALENDAR
