BEGIN:VCALENDAR
VERSION:2.0
PRODID:-//mrlib.org//NONSGML kigkonsult.se iCalcreator 2.30.10//
CALSCALE:GREGORIAN
METHOD:PUBLISH
UID:d24f561f-f6fd-46a3-973d-b715975fcbf8
X-WR-CALDESC:K-5 kids can join us on the 4th Thursday of every month for Cr
 afty Kids! Use your imagination to create a different craft at each progra
 m.
X-WR-RELCALID:bc62706dd05b870de3f36a64e0b24307
X-WR-TIMEZONE:America/New_York
BEGIN:VTIMEZONE
TZID:America/New_York
BEGIN:STANDARD
TZNAME:EST
DTSTART:20251102T020000
TZOFFSETFROM:-0400
TZOFFSETTO:-0500
RDATE:20261101T020000
END:STANDARD
BEGIN:DAYLIGHT
TZNAME:EDT
DTSTART:20250309T020000
TZOFFSETFROM:-0500
TZOFFSETTO:-0400
RDATE:20260308T020000
RDATE:20270314T020000
END:DAYLIGHT
END:VTIMEZONE
BEGIN:VEVENT
UID:604bb0b7-82d6-4f37-84c0-0d03c323470d
DTSTAMP:20260419T125854Z
DESCRIPTION:K-5 kids can join us on the 4th Thursday of every month for Cra
 fty Kids! Use your imagination to create a different craft at each program
 .
DTSTART;TZID=America/New_York:20260226T160000
DTEND;TZID=America/New_York:20260226T170000
LOCATION:Grottoes Branch Library\, 601 Dogwood Avenue\, Grottoes\, VA 24441
  US
SUMMARY:Crafty Kids @Grottoes Branch Library
END:VEVENT
END:VCALENDAR
