BEGIN:VCALENDAR
VERSION:2.0
PRODID:-//mrlib.org//NONSGML kigkonsult.se iCalcreator 2.30.10//
CALSCALE:GREGORIAN
METHOD:PUBLISH
UID:cf60bd8c-5f1a-4656-9326-5feb70e9dcb1
X-WR-CALDESC:Drop by the library and build with Keva Planks. Explore what y
 ou can build and create with these fun\, simple planks! Keva Lab is geared
  towards kindergarten through 5th grade youth.
X-WR-RELCALID:8e721a24e5591f9a2ef2436da2815b81
X-WR-TIMEZONE:America/New_York
BEGIN:VTIMEZONE
TZID:America/New_York
BEGIN:STANDARD
TZNAME:EST
DTSTART:20251102T020000
TZOFFSETFROM:-0400
TZOFFSETTO:-0500
RDATE:20261101T020000
END:STANDARD
BEGIN:DAYLIGHT
TZNAME:EDT
DTSTART:20250309T020000
TZOFFSETFROM:-0500
TZOFFSETTO:-0400
RDATE:20260308T020000
RDATE:20270314T020000
END:DAYLIGHT
END:VTIMEZONE
BEGIN:VEVENT
UID:69d2cd4e-6e9f-458b-aa29-ab336fb0af2c
DTSTAMP:20260419T123538Z
DESCRIPTION:Drop by the library and build with Keva Planks. Explore what yo
 u can build and create with these fun\, simple planks! Keva Lab is geared 
 towards kindergarten through 5th grade youth.
DTSTART;TZID=America/New_York:20260226T160000
DTEND;TZID=America/New_York:20260226T170000
LOCATION:174 S. Main St.\, Harrisonburg\, VA 22801 US
SUMMARY:Keva Lab @ Central Library
END:VEVENT
END:VCALENDAR
