BEGIN:VCALENDAR
VERSION:2.0
PRODID:-//mrlib.org//NONSGML kigkonsult.se iCalcreator 2.30.10//
CALSCALE:GREGORIAN
METHOD:PUBLISH
UID:a6416fd8-7770-4d63-ae42-cda23bd945fe
X-WR-CALDESC:Once upon a time\, Village Library decided to celebrate Tell a
  Fairy Tale Day! School-age kids: dress up as your favorite fairy tale cha
 racters and test your fairy tale knowledge!
X-WR-RELCALID:cb6cc56d72733a9d2591c5e23efd0799
X-WR-TIMEZONE:America/New_York
BEGIN:VTIMEZONE
TZID:America/New_York
BEGIN:STANDARD
TZNAME:EST
DTSTART:20251102T020000
TZOFFSETFROM:-0400
TZOFFSETTO:-0500
RDATE:20261101T020000
END:STANDARD
BEGIN:DAYLIGHT
TZNAME:EDT
DTSTART:20250309T020000
TZOFFSETFROM:-0500
TZOFFSETTO:-0400
RDATE:20260308T020000
RDATE:20270314T020000
END:DAYLIGHT
END:VTIMEZONE
BEGIN:VEVENT
UID:54ac5551-91ee-4883-ac44-e3cda510f607
DTSTAMP:20260419T123531Z
DESCRIPTION:Once upon a time\, Village Library decided to celebrate Tell a 
 Fairy Tale Day! School-age kids: dress up as your favorite fairy tale char
 acters and test your fairy tale knowledge!
DTSTART;TZID=America/New_York:20260226T160000
DTEND;TZID=America/New_York:20260226T170000
LOCATION:Village Library\, 175 N. Main Street\, Broadway\, VA 22815 US
SUMMARY:Fairy Tale Fun @Village Library
END:VEVENT
END:VCALENDAR
