BEGIN:VCALENDAR
VERSION:2.0
PRODID:-//mrlib.org//NONSGML kigkonsult.se iCalcreator 2.30.10//
CALSCALE:GREGORIAN
METHOD:PUBLISH
UID:21fe9dcc-1286-4f93-9503-8bca1d6788bf
X-WR-CALDESC:Stop by Central Library's Book Sale and directly support our n
 onprofit mission! Plus\, on Saturday\, fill an entire bag with books\, CDs
 \, DVDs\, puzzles\, etc. for only $5.\n\nThursday: 10AM-6PM\nFriday: Noon 
 - 3PM\nSaturday: Noon- 3PM ($5 bag sale)\n\nAdult Books $1 each\; children
 's titles $.25 each - cash and credit card accepted.
X-WR-RELCALID:4b7a4ea76e1d8d69f3e9a0b759816ad7
X-WR-TIMEZONE:America/New_York
BEGIN:VTIMEZONE
TZID:America/New_York
BEGIN:STANDARD
TZNAME:EST
DTSTART:20251102T020000
TZOFFSETFROM:-0400
TZOFFSETTO:-0500
RDATE:20261101T020000
END:STANDARD
BEGIN:DAYLIGHT
TZNAME:EDT
DTSTART:20260308T020000
TZOFFSETFROM:-0500
TZOFFSETTO:-0400
RDATE:20270314T020000
END:DAYLIGHT
END:VTIMEZONE
BEGIN:VEVENT
UID:8e287695-3e9d-445e-9459-fc53fa275e3b
DTSTAMP:20260421T095906Z
DESCRIPTION:Stop by Central Library's Book Sale and directly support our no
 nprofit mission! Plus\, on Saturday\, fill an entire bag with books\, CDs\
 , DVDs\, puzzles\, etc. for only $5.\n\nThursday: 10AM-6PM\nFriday: Noon -
  3PM\nSaturday: Noon- 3PM ($5 bag sale)\n\nAdult Books $1 each\; children'
 s titles $.25 each - cash and credit card accepted.
DTSTART;TZID=America/New_York:20260312T060000
DTEND;TZID=America/New_York:20260314T060001
LOCATION:Central Library\, 174 S. Main Street\, Harrisonburg\, VA 22801 US
SUMMARY:Book Sale @Central Library
END:VEVENT
END:VCALENDAR
