BEGIN:VCALENDAR
VERSION:2.0
PRODID:-//mrlib.org//NONSGML kigkonsult.se iCalcreator 2.30.10//
CALSCALE:GREGORIAN
METHOD:PUBLISH
UID:d45ab4c7-c241-4862-a06a-2764676a48e1
X-WR-CALDESC:Kids ages 0-5 will enjoy a special Story Time focused on emoti
 ons! We'll be joined by Mackenzie Campbell\, a Youth Services Coordinator 
 at Choices of Page County\, for stories and crafts.
X-WR-RELCALID:3c3420d41a51fef1ec2ec4b39ba28183
X-WR-TIMEZONE:America/New_York
BEGIN:VTIMEZONE
TZID:America/New_York
BEGIN:STANDARD
TZNAME:EST
DTSTART:20251102T020000
TZOFFSETFROM:-0400
TZOFFSETTO:-0500
RDATE:20261101T020000
END:STANDARD
BEGIN:DAYLIGHT
TZNAME:EDT
DTSTART:20260308T020000
TZOFFSETFROM:-0500
TZOFFSETTO:-0400
RDATE:20270314T020000
END:DAYLIGHT
END:VTIMEZONE
BEGIN:VEVENT
UID:b5acf348-8f82-48c6-8ec2-f7999f32d229
DTSTAMP:20260423T103602Z
DESCRIPTION:Kids ages 0-5 will enjoy a special Story Time focused on emotio
 ns! We'll be joined by Mackenzie Campbell\, a Youth Services Coordinator a
 t Choices of Page County\, for stories and crafts.
DTSTART;TZID=America/New_York:20260316T103000
DTEND;TZID=America/New_York:20260316T113000
LOCATION:Page Public Library\, 100 Zerkel Street\, Luray\, VA 22835 US
SUMMARY:Emotions Story Time @Page Public Library
END:VEVENT
END:VCALENDAR
