BEGIN:VCALENDAR
VERSION:2.0
PRODID:-//mrlib.org//NONSGML kigkonsult.se iCalcreator 2.30.10//
CALSCALE:GREGORIAN
METHOD:PUBLISH
UID:6ce24adc-4534-4f73-ab39-99e30f9115aa
X-WR-CALDESC:K-5 kids: join us for a shockingly good time learning about el
 ectricity with Snap Circuit kits!
X-WR-RELCALID:8dc101d7551cedfddaf7f8606701953c
X-WR-TIMEZONE:America/New_York
BEGIN:VTIMEZONE
TZID:America/New_York
BEGIN:STANDARD
TZNAME:EST
DTSTART:20251102T020000
TZOFFSETFROM:-0400
TZOFFSETTO:-0500
RDATE:20261101T020000
END:STANDARD
BEGIN:DAYLIGHT
TZNAME:EDT
DTSTART:20260308T020000
TZOFFSETFROM:-0500
TZOFFSETTO:-0400
RDATE:20270314T020000
END:DAYLIGHT
END:VTIMEZONE
BEGIN:VEVENT
UID:6a0ff626-8dfb-4636-9df2-e070ff2a04ce
DTSTAMP:20260421T095112Z
DESCRIPTION:K-5 kids: join us for a shockingly good time learning about ele
 ctricity with Snap Circuit kits!
DTSTART;TZID=America/New_York:20260319T160000
DTEND;TZID=America/New_York:20260319T170000
LOCATION:Shenandoah Community Library\, 418 S. Third Street\, Shenandoah\, 
 VA 22849 US
SUMMARY:Electrifying Snap Circuits @Shenandoah Community Library
END:VEVENT
END:VCALENDAR
