BEGIN:VCALENDAR
VERSION:2.0
PRODID:-//mrlib.org//NONSGML kigkonsult.se iCalcreator 2.30.10//
CALSCALE:GREGORIAN
METHOD:PUBLISH
UID:07b19413-8216-4638-a575-15a2ddd5c974
X-WR-CALDESC:Let your curiosity go wild while conducting exciting science e
 xperiments! Super Science is geared towards kindergarten through 5th grade
  youth.
X-WR-RELCALID:68a7297422487c87d5b554de46787951
X-WR-TIMEZONE:America/New_York
BEGIN:VTIMEZONE
TZID:America/New_York
BEGIN:STANDARD
TZNAME:EST
DTSTART:20251102T020000
TZOFFSETFROM:-0400
TZOFFSETTO:-0500
RDATE:20261101T020000
END:STANDARD
BEGIN:DAYLIGHT
TZNAME:EDT
DTSTART:20260308T020000
TZOFFSETFROM:-0500
TZOFFSETTO:-0400
RDATE:20270314T020000
END:DAYLIGHT
END:VTIMEZONE
BEGIN:VEVENT
UID:0f980551-79a3-401c-b939-f8b172819ce2
DTSTAMP:20260421T083312Z
DESCRIPTION:Let your curiosity go wild while conducting exciting science ex
 periments! Super Science is geared towards kindergarten through 5th grade 
 youth.
DTSTART;TZID=America/New_York:20260416T160000
DTEND;TZID=America/New_York:20260416T170000
LOCATION:174 S. Main St.\, Harrisonburg\, VA 22801 US
SUMMARY:Super Science @ Central Library
END:VEVENT
END:VCALENDAR
