BEGIN:VCALENDAR
VERSION:2.0
PRODID:-//mrlib.org//NONSGML kigkonsult.se iCalcreator 2.30.10//
CALSCALE:GREGORIAN
METHOD:PUBLISH
UID:e4151601-5625-4aa4-b73b-97ff11134244
X-WR-CALDESC:Elementary and middle school kids: let's get creative and make
  cardboard butterflies\, dragonflies\, bees\, and grasshoppers to celebrat
 e Earth Day! \n\nSpace is limited\, so click the 'Register Now' button to 
 save a spot.
X-WR-RELCALID:22fd8501c43c3773c22c71c2b537fbfd
X-WR-TIMEZONE:America/New_York
BEGIN:VTIMEZONE
TZID:America/New_York
BEGIN:STANDARD
TZNAME:EST
DTSTART:20251102T020000
TZOFFSETFROM:-0400
TZOFFSETTO:-0500
RDATE:20261101T020000
END:STANDARD
BEGIN:DAYLIGHT
TZNAME:EDT
DTSTART:20260308T020000
TZOFFSETFROM:-0500
TZOFFSETTO:-0400
RDATE:20270314T020000
END:DAYLIGHT
END:VTIMEZONE
BEGIN:VEVENT
UID:31f58712-c9b1-4705-8799-98cf029b2593
DTSTAMP:20260423T085206Z
DESCRIPTION:Elementary and middle school kids: let's get creative and make 
 cardboard butterflies\, dragonflies\, bees\, and grasshoppers to celebrate
  Earth Day! \n\nSpace is limited\, so click the 'Register Now' button to s
 ave a spot.
DTSTART;TZID=America/New_York:20260421T160000
DTEND;TZID=America/New_York:20260421T173000
LOCATION:Shenandoah Community Library\, 418 S. Third Street\, Shenandoah\, 
 VA 22849 US
SUMMARY:Spring Insects Craft @Shenandoah Community Library
END:VEVENT
END:VCALENDAR
