BEGIN:VCALENDAR
VERSION:2.0
PRODID:-//mrlib.org//NONSGML kigkonsult.se iCalcreator 2.30.10//
CALSCALE:GREGORIAN
METHOD:PUBLISH
UID:ce5c1906-d6d7-4402-97d2-65af1bfdcf9b
X-WR-CALDESC:Children of all ages are invited to Good Day Café every 3rd We
 dnesday* of the month for fun books and silly songs! Encourage early liter
 acy skills and socialize with other caregivers in a cozy café right across
  the street from Elkton Community Library.\n\n*Please note: Good Day Reads
  will pause during June\, July\, and August! It will resume its normal 3rd
  Wednesday schedule in September.
X-WR-RELCALID:7be3fe8c146f75444b9488dde9025ce5
X-WR-TIMEZONE:America/New_York
BEGIN:VTIMEZONE
TZID:America/New_York
BEGIN:STANDARD
TZNAME:EST
DTSTART:20251102T020000
TZOFFSETFROM:-0400
TZOFFSETTO:-0500
RDATE:20261101T020000
RDATE:20271107T020000
END:STANDARD
BEGIN:DAYLIGHT
TZNAME:EDT
DTSTART:20260308T020000
TZOFFSETFROM:-0500
TZOFFSETTO:-0400
RDATE:20270314T020000
END:DAYLIGHT
END:VTIMEZONE
BEGIN:VEVENT
UID:97f42040-a340-4934-8efd-f8871e65bc49
DTSTAMP:20260421T084509Z
DESCRIPTION:Children of all ages are invited to Good Day Café every 3rd Wed
 nesday* of the month for fun books and silly songs! Encourage early litera
 cy skills and socialize with other caregivers in a cozy café right across 
 the street from Elkton Community Library.\n\n*Please note: Good Day Reads 
 will pause during June\, July\, and August! It will resume its normal 3rd 
 Wednesday schedule in September.
DTSTART;TZID=America/New_York:20260520T123000
DTEND;TZID=America/New_York:20260520T130000
LOCATION:Good Day Café\, 311 W Spotswood Trail\, Elkton\, VA 22827 US
SUMMARY:Good Day Reads at the Café
END:VEVENT
END:VCALENDAR
