BEGIN:VCALENDAR
VERSION:2.0
PRODID:-//mrlib.org//NONSGML kigkonsult.se iCalcreator 2.30.10//
CALSCALE:GREGORIAN
METHOD:PUBLISH
UID:5015f995-019b-4cde-ad52-ab21987daf76
X-WR-CALDESC:MRL's 2026 Summer Reading Challenge engages children and adult
 s in creative and challenging library-based events from June 1 through Aug
 ust 2\, 2026. 2026's theme is Unearth a Story™!\n\nOpen to readers of all 
 ages\, SRC features a fun reading challenge\, as well as dozens of weekly 
 events throughout MRL's seven branches in Harrisonburg\, Rockingham County
 \, and Page County. Using the app Beanstack\, patrons can track their read
 ing and be entered to win prizes! Register on the Beanstack app or in-pers
 on at any MRL branch in: Bridgewater\, Broadway\, Elkton\, Grottoes\, Harr
 isonburg\, Luray\, and Shenandoah.
X-WR-RELCALID:38df903758c471c4c80ca1b9f4bc4a6d
X-WR-TIMEZONE:America/New_York
BEGIN:VTIMEZONE
TZID:America/New_York
BEGIN:STANDARD
TZNAME:EST
DTSTART:20251102T020000
TZOFFSETFROM:-0400
TZOFFSETTO:-0500
RDATE:20261101T020000
RDATE:20271107T020000
END:STANDARD
BEGIN:DAYLIGHT
TZNAME:EDT
DTSTART:20260308T020000
TZOFFSETFROM:-0500
TZOFFSETTO:-0400
RDATE:20270314T020000
END:DAYLIGHT
END:VTIMEZONE
BEGIN:VEVENT
UID:6bed8bad-9766-40d3-a7f3-b10c5abff24d
DTSTAMP:20260419T130347Z
DESCRIPTION:MRL's 2026 Summer Reading Challenge engages children and adults
  in creative and challenging library-based events from June 1 through Augu
 st 2\, 2026. 2026's theme is Unearth a Story™!\n\nOpen to readers of all a
 ges\, SRC features a fun reading challenge\, as well as dozens of weekly e
 vents throughout MRL's seven branches in Harrisonburg\, Rockingham County\
 , and Page County. Using the app Beanstack\, patrons can track their readi
 ng and be entered to win prizes! Register on the Beanstack app or in-perso
 n at any MRL branch in: Bridgewater\, Broadway\, Elkton\, Grottoes\, Harri
 sonburg\, Luray\, and Shenandoah.
DTSTART;TZID=America/New_York:20260601T060000
DTEND;TZID=America/New_York:20260802T060001
LOCATION:
SUMMARY:Summer Reading Challenge!
END:VEVENT
END:VCALENDAR
