BEGIN:VCALENDAR
VERSION:2.0
PRODID:-//mrlib.org//NONSGML kigkonsult.se iCalcreator 2.30.10//
CALSCALE:GREGORIAN
METHOD:PUBLISH
UID:29a8dd94-cc10-4ddf-8c71-78714885bbb8
X-WR-CALDESC:Shake out your sillies at this story time for ages 0-2 years. 
 Come explore new books and learn simple songs and nursey rhymes to enhance
  early literacy development.
X-WR-RELCALID:12f63da39c2a91e2aa3fbff52fb781c4
X-WR-TIMEZONE:America/New_York
BEGIN:VTIMEZONE
TZID:America/New_York
BEGIN:STANDARD
TZNAME:EST
DTSTART:20251102T020000
TZOFFSETFROM:-0400
TZOFFSETTO:-0500
RDATE:20261101T020000
RDATE:20271107T020000
END:STANDARD
BEGIN:DAYLIGHT
TZNAME:EDT
DTSTART:20260308T020000
TZOFFSETFROM:-0500
TZOFFSETTO:-0400
RDATE:20270314T020000
END:DAYLIGHT
END:VTIMEZONE
BEGIN:VEVENT
UID:a6be60a1-9d2d-473e-913d-3088a6432c35
DTSTAMP:20260419T131552Z
DESCRIPTION:Shake out your sillies at this story time for ages 0-2 years. C
 ome explore new books and learn simple songs and nursey rhymes to enhance 
 early literacy development.
DTSTART;TZID=America/New_York:20260602T100000
DTEND;TZID=America/New_York:20260602T103000
LOCATION:Central Library\, 174 S. Main St.\, Harrisonburg\, VA 22801 US
SUMMARY:Babies\, Books\, and Movement @ Central Library
END:VEVENT
END:VCALENDAR
