BEGIN:VCALENDAR
VERSION:2.0
PRODID:-//mrlib.org//NONSGML kigkonsult.se iCalcreator 2.30.10//
CALSCALE:GREGORIAN
METHOD:PUBLISH
UID:9cf7fe42-c945-4b68-8ebd-a16b72f93fea
X-WR-CALDESC:Kids and teens: discover the differences between all kinds of 
 mammals\, from foxes and beavers to muskrats and more! Shenandoah River St
 ate Park Chief Ranger\, Megan Goin\, will answer all of your mammal questi
 ons.
X-WR-RELCALID:1e9a230a718e5773b09498d53158bb62
X-WR-TIMEZONE:America/New_York
BEGIN:VTIMEZONE
TZID:America/New_York
BEGIN:STANDARD
TZNAME:EST
DTSTART:20251102T020000
TZOFFSETFROM:-0400
TZOFFSETTO:-0500
RDATE:20261101T020000
RDATE:20271107T020000
END:STANDARD
BEGIN:DAYLIGHT
TZNAME:EDT
DTSTART:20260308T020000
TZOFFSETFROM:-0500
TZOFFSETTO:-0400
RDATE:20270314T020000
END:DAYLIGHT
END:VTIMEZONE
BEGIN:VEVENT
UID:639efe02-3fc7-4b7c-8a1d-63cfd6e9be34
DTSTAMP:20260419T130517Z
DESCRIPTION:Kids and teens: discover the differences between all kinds of m
 ammals\, from foxes and beavers to muskrats and more! Shenandoah River Sta
 te Park Chief Ranger\, Megan Goin\, will answer all of your mammal questio
 ns.
DTSTART;TZID=America/New_York:20260602T140000
DTEND;TZID=America/New_York:20260602T150000
LOCATION:Shenandoah Community Library\, 418 S. Third Street\, Shenandoah\, 
 VA 22849 US
SUMMARY:Mammal Mania @Shenandoah Community Library
END:VEVENT
END:VCALENDAR
