BEGIN:VCALENDAR
VERSION:2.0
PRODID:-//mrlib.org//NONSGML kigkonsult.se iCalcreator 2.30.10//
CALSCALE:GREGORIAN
METHOD:PUBLISH
UID:284f3f84-9aaf-41b3-87b9-39618c2e3469
X-WR-CALDESC:Kids: join us for a special Story Time with Harrisonburg Parks
  and Recreation! Athletics Coordinator Courtney Carawan will read books\, 
 sing songs\, and teach us about the Start Smart athletic programs. Plus\, 
 we'll play indoors with a bunch of cool athletic equipment!
X-WR-RELCALID:0bc1151a3f88ef450166d8edb6bae2a2
X-WR-TIMEZONE:America/New_York
BEGIN:VTIMEZONE
TZID:America/New_York
BEGIN:STANDARD
TZNAME:EST
DTSTART:20251102T020000
TZOFFSETFROM:-0400
TZOFFSETTO:-0500
RDATE:20261101T020000
RDATE:20271107T020000
END:STANDARD
BEGIN:DAYLIGHT
TZNAME:EDT
DTSTART:20260308T020000
TZOFFSETFROM:-0500
TZOFFSETTO:-0400
RDATE:20270314T020000
END:DAYLIGHT
END:VTIMEZONE
BEGIN:VEVENT
UID:b95501bb-a0bc-4898-aacb-5a133566fe9e
DTSTAMP:20260419T132452Z
DESCRIPTION:Kids: join us for a special Story Time with Harrisonburg Parks 
 and Recreation! Athletics Coordinator Courtney Carawan will read books\, s
 ing songs\, and teach us about the Start Smart athletic programs. Plus\, w
 e'll play indoors with a bunch of cool athletic equipment!
DTSTART;TZID=America/New_York:20260604T110000
DTEND;TZID=America/New_York:20260604T113000
LOCATION:Central Library\, 174 S. Main St.\, Harrisonburg\, VA 22801 US
SUMMARY:Story Time with Harrisonburg Parks and Recreation @Central Library
END:VEVENT
END:VCALENDAR
