BEGIN:VCALENDAR
VERSION:2.0
PRODID:-//mrlib.org//NONSGML kigkonsult.se iCalcreator 2.30.10//
CALSCALE:GREGORIAN
METHOD:PUBLISH
UID:ac08d10b-f823-4645-b607-fc3205ed54d8
X-WR-CALDESC:Dogs are wonderful listeners and love to hear stories being to
 ld to them! Dogs 2 Read 2 is a great chance for kids in grades K-5 to prac
 tice their reading skills with a wonderful and well-behaved pup. Come meet
  Kenna\, a certified therapy dog through the Alliance for Therapy Dogs. Ke
 nna is a familiar\, friendly face at many local schools and loves to have 
 stories read to her!\n\n*Kenna will be visiting every 1st Friday of the mo
 nth from 10-11 AM during June\, July\, and August\, 2026. After August\, s
 he'll go back to her normal 2nd Saturday schedule from 11 AM-12 PM!
X-WR-RELCALID:781166c6388fc6ea879e6e8677beb8e9
X-WR-TIMEZONE:America/New_York
BEGIN:VTIMEZONE
TZID:America/New_York
BEGIN:STANDARD
TZNAME:EST
DTSTART:20251102T020000
TZOFFSETFROM:-0400
TZOFFSETTO:-0500
RDATE:20261101T020000
RDATE:20271107T020000
END:STANDARD
BEGIN:DAYLIGHT
TZNAME:EDT
DTSTART:20260308T020000
TZOFFSETFROM:-0500
TZOFFSETTO:-0400
RDATE:20270314T020000
END:DAYLIGHT
END:VTIMEZONE
BEGIN:VEVENT
UID:1bc975b1-d575-40b4-b275-811ab203a939
DTSTAMP:20260419T132054Z
DESCRIPTION:Dogs are wonderful listeners and love to hear stories being tol
 d to them! Dogs 2 Read 2 is a great chance for kids in grades K-5 to pract
 ice their reading skills with a wonderful and well-behaved pup. Come meet 
 Kenna\, a certified therapy dog through the Alliance for Therapy Dogs. Ken
 na is a familiar\, friendly face at many local schools and loves to have s
 tories read to her!\n\n*Kenna will be visiting every 1st Friday of the mon
 th from 10-11 AM during June\, July\, and August\, 2026. After August\, sh
 e'll go back to her normal 2nd Saturday schedule from 11 AM-12 PM!
DTSTART;TZID=America/New_York:20260605T100000
DTEND;TZID=America/New_York:20260605T110000
LOCATION:Village Library\, 175 N. Main Street\, Broadway\, VA 22815 US
SUMMARY:Dogs 2 Read 2 @Village Library
END:VEVENT
END:VCALENDAR
