BEGIN:VCALENDAR
VERSION:2.0
PRODID:-//mrlib.org//NONSGML kigkonsult.se iCalcreator 2.30.10//
CALSCALE:GREGORIAN
METHOD:PUBLISH
UID:3f72ad6a-8ade-408c-aba5-a1119e8ef56b
X-WR-CALDESC:Kids of all ages can enjoy books and songs with Harrisonburg T
 urks Baseball players! Bring your baseball and autograph book to collect s
 ignatures.
X-WR-RELCALID:bb801d2fa330607f252cfc8247e88354
X-WR-TIMEZONE:America/New_York
BEGIN:VTIMEZONE
TZID:America/New_York
BEGIN:STANDARD
TZNAME:EST
DTSTART:20251102T020000
TZOFFSETFROM:-0400
TZOFFSETTO:-0500
RDATE:20261101T020000
RDATE:20271107T020000
END:STANDARD
BEGIN:DAYLIGHT
TZNAME:EDT
DTSTART:20260308T020000
TZOFFSETFROM:-0500
TZOFFSETTO:-0400
RDATE:20270314T020000
END:DAYLIGHT
END:VTIMEZONE
BEGIN:VEVENT
UID:5f30f7ef-49eb-4e59-afd7-01623c84492b
DTSTAMP:20260419T132252Z
DESCRIPTION:Kids of all ages can enjoy books and songs with Harrisonburg Tu
 rks Baseball players! Bring your baseball and autograph book to collect si
 gnatures.
DTSTART;TZID=America/New_York:20260608T103000
DTEND;TZID=America/New_York:20260608T110000
LOCATION:Elkton Community Library\, 106 N. Terrace Avenue\, Elkton\, VA 228
 27 US
SUMMARY:Story Time with the Harrisonburg Turks @Elkton Community Library
END:VEVENT
END:VCALENDAR
