BEGIN:VCALENDAR
VERSION:2.0
PRODID:-//mrlib.org//NONSGML kigkonsult.se iCalcreator 2.30.10//
CALSCALE:GREGORIAN
METHOD:PUBLISH
UID:2261cdb9-26d7-4b3d-9a19-86bb9dbbbf00
X-WR-CALDESC:Kids and teens: learn about the many toads\, turtles\, and sna
 kes that make the Shenandoah Valley their home! Special guest Megan Goin\,
  Chief Ranger at Shenandoah River State Park\, will bring actual reptiles!
X-WR-RELCALID:767decd80a53b8ec8b2cfba261a9bf7b
X-WR-TIMEZONE:America/New_York
BEGIN:VTIMEZONE
TZID:America/New_York
BEGIN:STANDARD
TZNAME:EST
DTSTART:20251102T020000
TZOFFSETFROM:-0400
TZOFFSETTO:-0500
RDATE:20261101T020000
RDATE:20271107T020000
END:STANDARD
BEGIN:DAYLIGHT
TZNAME:EDT
DTSTART:20260308T020000
TZOFFSETFROM:-0500
TZOFFSETTO:-0400
RDATE:20270314T020000
END:DAYLIGHT
END:VTIMEZONE
BEGIN:VEVENT
UID:fdb6bf55-ceb8-42a2-acc2-41eac5b3e81f
DTSTAMP:20260419T130346Z
DESCRIPTION:Kids and teens: learn about the many toads\, turtles\, and snak
 es that make the Shenandoah Valley their home! Special guest Megan Goin\, 
 Chief Ranger at Shenandoah River State Park\, will bring actual reptiles!
DTSTART;TZID=America/New_York:20260608T140000
DTEND;TZID=America/New_York:20260608T150000
LOCATION:Page Public Library\, 100 Zerkel Street\, Luray\, VA 22835 US
SUMMARY:Toads\, Turtles\, and Snakes @Page Public Library
END:VEVENT
END:VCALENDAR
