BEGIN:VCALENDAR
VERSION:2.0
PRODID:-//mrlib.org//NONSGML kigkonsult.se iCalcreator 2.30.10//
CALSCALE:GREGORIAN
METHOD:PUBLISH
UID:f73242b3-98b0-4ef8-87a7-cc69f3bc7da3
X-WR-CALDESC:Children of all ages can enjoy books and songs with New Market
  Rebels Baseball players! Bring your baseball and autograph book to collec
 t signatures.
X-WR-RELCALID:fb23741fffbe8854c5871351d3036b3e
X-WR-TIMEZONE:America/New_York
BEGIN:VTIMEZONE
TZID:America/New_York
BEGIN:STANDARD
TZNAME:EST
DTSTART:20251102T020000
TZOFFSETFROM:-0400
TZOFFSETTO:-0500
RDATE:20261101T020000
RDATE:20271107T020000
END:STANDARD
BEGIN:DAYLIGHT
TZNAME:EDT
DTSTART:20260308T020000
TZOFFSETFROM:-0500
TZOFFSETTO:-0400
RDATE:20270314T020000
END:DAYLIGHT
END:VTIMEZONE
BEGIN:VEVENT
UID:96c6f79e-d585-4010-81f0-879f8190850f
DTSTAMP:20260419T132415Z
DESCRIPTION:Children of all ages can enjoy books and songs with New Market 
 Rebels Baseball players! Bring your baseball and autograph book to collect
  signatures.
DTSTART;TZID=America/New_York:20260609T110000
DTEND;TZID=America/New_York:20260609T113000
LOCATION:Shenandoah Community Library\, 418 S. Third Street\, Shenandoah\, 
 VA 22849 US
SUMMARY:Story Time with the New Market Rebels @Shenandoah Community Library
END:VEVENT
END:VCALENDAR
