BEGIN:VCALENDAR
VERSION:2.0
PRODID:-//mrlib.org//NONSGML kigkonsult.se iCalcreator 2.30.10//
CALSCALE:GREGORIAN
METHOD:PUBLISH
UID:f19f063e-c656-4443-8b16-03138fada2e5
X-WR-CALDESC:Children of all ages can enjoy reading\, singing\, and dancing
  with the Chick-fil-A cow! Bring your camera for a chance to take a pictur
 e with the cow.
X-WR-RELCALID:ab4397bea0fa8b0e9aa344da7f9bd54d
X-WR-TIMEZONE:America/New_York
BEGIN:VTIMEZONE
TZID:America/New_York
BEGIN:STANDARD
TZNAME:EST
DTSTART:20251102T020000
TZOFFSETFROM:-0400
TZOFFSETTO:-0500
RDATE:20261101T020000
RDATE:20271107T020000
END:STANDARD
BEGIN:DAYLIGHT
TZNAME:EDT
DTSTART:20260308T020000
TZOFFSETFROM:-0500
TZOFFSETTO:-0400
RDATE:20270314T020000
END:DAYLIGHT
END:VTIMEZONE
BEGIN:VEVENT
UID:2798d3d8-5c0f-452d-af19-4a63c1245dcc
DTSTAMP:20260419T132453Z
DESCRIPTION:Children of all ages can enjoy reading\, singing\, and dancing 
 with the Chick-fil-A cow! Bring your camera for a chance to take a picture
  with the cow.
DTSTART;TZID=America/New_York:20260610T100000
DTEND;TZID=America/New_York:20260610T103000
LOCATION:Grottoes Branch Library\, 601 Dogwood Avenue\, Grottoes\, VA 24441
  US
SUMMARY:Story Time with the Chick-fil-A Cow @Grottoes Branch Library
END:VEVENT
END:VCALENDAR
