BEGIN:VCALENDAR
VERSION:2.0
PRODID:-//mrlib.org//NONSGML kigkonsult.se iCalcreator 2.30.10//
CALSCALE:GREGORIAN
METHOD:PUBLISH
UID:28f13088-e2c8-4646-8dda-8601814a17b6
X-WR-CALDESC:Children of all ages can join us for a special Story Time with
  Bug Man Wayne! Read books and sing songs about bugs\, and maybe even see 
 some critters from the river! \n\nAbout Wayne Paxton:\nAfter teaching high
  school English for ten years\, Wayne Paxton is a Fly Fishing Guide at Mos
 sy Creek Fly Fishing. Wayne loves sharing about fly fishing and bugs with 
 others\, and he's always looking forward to life's next adventure\, whethe
 r he has a fly rod in hand\, skis strapped to his feet\, or trail running 
 shoes laced up! He lives in Dayton with his wife and son.
X-WR-RELCALID:83bde45cc2162fb7e9a732d5147f8f52
X-WR-TIMEZONE:America/New_York
BEGIN:VTIMEZONE
TZID:America/New_York
BEGIN:STANDARD
TZNAME:EST
DTSTART:20251102T020000
TZOFFSETFROM:-0400
TZOFFSETTO:-0500
RDATE:20261101T020000
RDATE:20271107T020000
END:STANDARD
BEGIN:DAYLIGHT
TZNAME:EDT
DTSTART:20260308T020000
TZOFFSETFROM:-0500
TZOFFSETTO:-0400
RDATE:20270314T020000
END:DAYLIGHT
END:VTIMEZONE
BEGIN:VEVENT
UID:abf46760-933b-4669-a6ab-ce068f67c89b
DTSTAMP:20260419T130515Z
DESCRIPTION:Children of all ages can join us for a special Story Time with 
 Bug Man Wayne! Read books and sing songs about bugs\, and maybe even see s
 ome critters from the river! \n\nAbout Wayne Paxton:\nAfter teaching high 
 school English for ten years\, Wayne Paxton is a Fly Fishing Guide at Moss
 y Creek Fly Fishing. Wayne loves sharing about fly fishing and bugs with o
 thers\, and he's always looking forward to life's next adventure\, whether
  he has a fly rod in hand\, skis strapped to his feet\, or trail running s
 hoes laced up! He lives in Dayton with his wife and son.
DTSTART;TZID=America/New_York:20260611T110000
DTEND;TZID=America/New_York:20260611T113000
LOCATION:Central Library\, 174 S. Main St.\, Harrisonburg\, VA 22801 US
SUMMARY:Story Time with Bug Man Wayne @Central Library
END:VEVENT
END:VCALENDAR
