BEGIN:VCALENDAR
VERSION:2.0
PRODID:-//mrlib.org//NONSGML kigkonsult.se iCalcreator 2.30.10//
CALSCALE:GREGORIAN
METHOD:PUBLISH
UID:eb9c4392-1c7a-4a6f-8881-d4c68afa83ff
X-WR-CALDESC:Children of all ages can enjoy books and songs with players fr
 om the Harrisonburg Turks baseball team! Bring your baseball and autograph
  book to collect signatures.
X-WR-RELCALID:37379c62c32bc622f87a791a1b7a01f2
X-WR-TIMEZONE:America/New_York
BEGIN:VTIMEZONE
TZID:America/New_York
BEGIN:STANDARD
TZNAME:EST
DTSTART:20251102T020000
TZOFFSETFROM:-0400
TZOFFSETTO:-0500
RDATE:20261101T020000
RDATE:20271107T020000
END:STANDARD
BEGIN:DAYLIGHT
TZNAME:EDT
DTSTART:20260308T020000
TZOFFSETFROM:-0500
TZOFFSETTO:-0400
RDATE:20270314T020000
END:DAYLIGHT
END:VTIMEZONE
BEGIN:VEVENT
UID:c98825c0-fb31-4880-8fd6-59bf03fbc9f2
DTSTAMP:20260419T132538Z
DESCRIPTION:Children of all ages can enjoy books and songs with players fro
 m the Harrisonburg Turks baseball team! Bring your baseball and autograph 
 book to collect signatures.
DTSTART;TZID=America/New_York:20260611T110000
DTEND;TZID=America/New_York:20260611T113000
LOCATION:North River Library\, 118 Mt. Crawford Avenue\, Bridgewater\, VA 2
 2812 US
SUMMARY:Story Time with the Harrisonburg Turks @North River Library
END:VEVENT
END:VCALENDAR
