BEGIN:VCALENDAR
VERSION:2.0
PRODID:-//mrlib.org//NONSGML kigkonsult.se iCalcreator 2.30.10//
CALSCALE:GREGORIAN
METHOD:PUBLISH
UID:dfe1ad5d-07a3-4be3-aca6-d431e12bc5df
X-WR-CALDESC:Let your imagination soar and develop engineering skills while
  building with LEGO blocks. LEGO Club is geared towards kindergarten throu
 gh 5th grade youth.
X-WR-RELCALID:79f4a82015161a2054bafee7241e588d
X-WR-TIMEZONE:America/New_York
BEGIN:VTIMEZONE
TZID:America/New_York
BEGIN:STANDARD
TZNAME:EST
DTSTART:20251102T020000
TZOFFSETFROM:-0400
TZOFFSETTO:-0500
RDATE:20261101T020000
RDATE:20271107T020000
END:STANDARD
BEGIN:DAYLIGHT
TZNAME:EDT
DTSTART:20260308T020000
TZOFFSETFROM:-0500
TZOFFSETTO:-0400
RDATE:20270314T020000
END:DAYLIGHT
END:VTIMEZONE
BEGIN:VEVENT
UID:94925cc5-c0fb-4abf-8b41-7d8649e4697a
DTSTAMP:20260419T132102Z
DESCRIPTION:Let your imagination soar and develop engineering skills while 
 building with LEGO blocks. LEGO Club is geared towards kindergarten throug
 h 5th grade youth.
DTSTART;TZID=America/New_York:20260611T160000
DTEND;TZID=America/New_York:20260611T170000
LOCATION:100 Zerkel Street\, Luray\, VA 22835 US
SUMMARY:LEGO Club @ Page Public Library
END:VEVENT
END:VCALENDAR
