BEGIN:VCALENDAR
VERSION:2.0
PRODID:-//mrlib.org//NONSGML kigkonsult.se iCalcreator 2.30.10//
CALSCALE:GREGORIAN
METHOD:PUBLISH
UID:5fae6c27-2220-40d7-8734-f4e972df1cd8
X-WR-CALDESC:Kids of all ages: Do you have someone special you'd like to ma
 ke a card for this month? You're invited to visit the library and we'll su
 pply card making materials for you to make a special card.\n\nRegistration
  is required\, so make sure to save your spot.
X-WR-RELCALID:aa1afabd8559703806cf5053ffdbb459
X-WR-TIMEZONE:America/New_York
BEGIN:VTIMEZONE
TZID:America/New_York
BEGIN:STANDARD
TZNAME:EST
DTSTART:20251102T020000
TZOFFSETFROM:-0400
TZOFFSETTO:-0500
RDATE:20261101T020000
RDATE:20271107T020000
END:STANDARD
BEGIN:DAYLIGHT
TZNAME:EDT
DTSTART:20260308T020000
TZOFFSETFROM:-0500
TZOFFSETTO:-0400
RDATE:20270314T020000
END:DAYLIGHT
END:VTIMEZONE
BEGIN:VEVENT
UID:e0e58f74-6f24-43eb-9984-d9c559359bf1
DTSTAMP:20260419T131414Z
DESCRIPTION:Kids of all ages: Do you have someone special you'd like to mak
 e a card for this month? You're invited to visit the library and we'll sup
 ply card making materials for you to make a special card.\n\nRegistration 
 is required\, so make sure to save your spot.
DTSTART;TZID=America/New_York:20260611T130000
DTEND;TZID=America/New_York:20260611T140000
LOCATION:Shenandoah Community Library\, 418 S. Third Street\, Shenandoah\, 
 VA 22849 US
SUMMARY:Make a Card for Your Role Model @Shenandoah Community Library
END:VEVENT
END:VCALENDAR
